BEGIN:VCALENDAR
VERSION:2.0
PRODID:-//Expats in Albania - ECPv6.15.20//NONSGML v1.0//EN
CALSCALE:GREGORIAN
METHOD:PUBLISH
X-ORIGINAL-URL:https://expatsinalbania.com
X-WR-CALDESC:Events for Expats in Albania
REFRESH-INTERVAL;VALUE=DURATION:PT1H
X-Robots-Tag:noindex
X-PUBLISHED-TTL:PT1H
BEGIN:VTIMEZONE
TZID:Europe/Tirane
BEGIN:DAYLIGHT
TZOFFSETFROM:+0100
TZOFFSETTO:+0200
TZNAME:CEST
DTSTART:20240331T010000
END:DAYLIGHT
BEGIN:STANDARD
TZOFFSETFROM:+0200
TZOFFSETTO:+0100
TZNAME:CET
DTSTART:20241027T010000
END:STANDARD
BEGIN:DAYLIGHT
TZOFFSETFROM:+0100
TZOFFSETTO:+0200
TZNAME:CEST
DTSTART:20250330T010000
END:DAYLIGHT
BEGIN:STANDARD
TZOFFSETFROM:+0200
TZOFFSETTO:+0100
TZNAME:CET
DTSTART:20251026T010000
END:STANDARD
BEGIN:DAYLIGHT
TZOFFSETFROM:+0100
TZOFFSETTO:+0200
TZNAME:CEST
DTSTART:20260329T010000
END:DAYLIGHT
BEGIN:STANDARD
TZOFFSETFROM:+0200
TZOFFSETTO:+0100
TZNAME:CET
DTSTART:20261025T010000
END:STANDARD
END:VTIMEZONE
BEGIN:VEVENT
DTSTART;TZID=Europe/Tirane:20251203T103000
DTEND;TZID=Europe/Tirane:20251203T120000
DTSTAMP:20260423T205600
CREATED:20251021T235531Z
LAST-MODIFIED:20251021T235741Z
UID:253846-1764757800-1764763200@expatsinalbania.com
SUMMARY:EIA Biweekly Coffee - NY-Tirana Bagels
DESCRIPTION:You’re invited to our Wednesday Coffee/Breakfast Gathering\, held every other week! If you’re new in town and looking to connect with our expat community or need assistance with your relocation process\, this is the perfect opportunity to meet us in person. We look forward to welcoming you! \nOur meeting’s venue this week is New York Bagels Tirana
URL:https://expatsinalbania.com/events-calendar/eia-biweekly-coffee-2-3-2-2-2-2-3/
CATEGORIES:Drinks & Mixer,Information Session
ATTACH;FMTTYPE=image/jpeg:https://expatsinalbania.com/wp-content/uploads/2025/06/NewYorkTiranaBagels-e1749395340295.jpg
END:VEVENT
BEGIN:VEVENT
DTSTART;TZID=Europe/Tirane:20251119T103000
DTEND;TZID=Europe/Tirane:20251119T120000
DTSTAMP:20260423T205600
CREATED:20251021T235031Z
LAST-MODIFIED:20251021T235021Z
UID:253780-1763548200-1763553600@expatsinalbania.com
SUMMARY:EIA Biweekly Coffee - MUSICBOOKS
DESCRIPTION:You’re invited to our Wednesday Coffee/Breakfast Gathering\, held every other week! If you’re new in town and looking to connect with our expat community or need assistance with your relocation process\, this is the perfect opportunity to meet us in person. We look forward to welcoming you! \nOur meetup’s venue this week is at MUSICBOOKS
URL:https://expatsinalbania.com/events-calendar/eia-biweekly-coffee-2-3-3-2-2-2-2/
CATEGORIES:Drinks & Mixer,Information Session
ATTACH;FMTTYPE=image/jpeg:https://expatsinalbania.com/wp-content/uploads/2025/06/MusicBooks_Event.jpg
END:VEVENT
BEGIN:VEVENT
DTSTART;TZID=Europe/Tirane:20251105T103000
DTEND;TZID=Europe/Tirane:20251105T120000
DTSTAMP:20260423T205600
CREATED:20251021T233331Z
LAST-MODIFIED:20251021T233317Z
UID:253796-1762338600-1762344000@expatsinalbania.com
SUMMARY:EIA Biweekly Coffee - NY-Tirana Bagels
DESCRIPTION:You’re invited to our Wednesday Coffee/Breakfast Gathering\, held every other week! If you’re new in town and looking to connect with our expat community or need assistance with your relocation process\, this is the perfect opportunity to meet us in person. We look forward to welcoming you! \nOur meeting’s venue this week is New York Bagels Tirana
URL:https://expatsinalbania.com/events-calendar/eia-biweekly-coffee-2-3-2-2-2-2-2/
CATEGORIES:Drinks & Mixer,Information Session
ATTACH;FMTTYPE=image/jpeg:https://expatsinalbania.com/wp-content/uploads/2025/06/NewYorkTiranaBagels-e1749395340295.jpg
END:VEVENT
BEGIN:VEVENT
DTSTART;TZID=Europe/Tirane:20251022T103000
DTEND;TZID=Europe/Tirane:20251022T120000
DTSTAMP:20260423T205600
CREATED:20250922T204231Z
LAST-MODIFIED:20250922T231801Z
UID:253547-1761129000-1761134400@expatsinalbania.com
SUMMARY:EIA Biweekly Coffee - MUSICBOOKS
DESCRIPTION:You’re invited to our Wednesday Coffee/Breakfast Gathering\, held every other week! If you’re new in town and looking to connect with our expat community or need assistance with your relocation process\, this is the perfect opportunity to meet us in person. We look forward to welcoming you! \nOur meetup’s venue this week is at MUSICBOOKS
URL:https://expatsinalbania.com/events-calendar/eia-biweekly-coffee-2-3-3-2-2-2/
CATEGORIES:Drinks & Mixer,Information Session
ATTACH;FMTTYPE=image/jpeg:https://expatsinalbania.com/wp-content/uploads/2025/06/MusicBooks_Event.jpg
END:VEVENT
BEGIN:VEVENT
DTSTART;TZID=Europe/Tirane:20251008T103000
DTEND;TZID=Europe/Tirane:20251008T120000
DTSTAMP:20260423T205600
CREATED:20250922T232331Z
LAST-MODIFIED:20250922T232437Z
UID:253562-1759919400-1759924800@expatsinalbania.com
SUMMARY:EIA Biweekly Coffee - NY-Tirana Bagels
DESCRIPTION:You’re invited to our Wednesday Coffee/Breakfast Gathering\, held every other week! If you’re new in town and looking to connect with our expat community or need assistance with your relocation process\, this is the perfect opportunity to meet us in person. We look forward to welcoming you! \nOur meeting’s venue this week is New York Bagels Tirana
URL:https://expatsinalbania.com/events-calendar/eia-biweekly-coffee-2-3-2-2-2-2/
CATEGORIES:Drinks & Mixer,Information Session
ATTACH;FMTTYPE=image/jpeg:https://expatsinalbania.com/wp-content/uploads/2025/06/NewYorkTiranaBagels-e1749395340295.jpg
END:VEVENT
BEGIN:VEVENT
DTSTART;TZID=Europe/Tirane:20250924T103000
DTEND;TZID=Europe/Tirane:20250924T120000
DTSTAMP:20260423T205600
CREATED:20250922T204231Z
LAST-MODIFIED:20250922T225553Z
UID:253527-1758709800-1758715200@expatsinalbania.com
SUMMARY:EIA Biweekly Coffee - MUSICBOOKS
DESCRIPTION:You’re invited to our Wednesday Coffee/Breakfast Gathering\, held every other week! If you’re new in town and looking to connect with our expat community or need assistance with your relocation process\, this is the perfect opportunity to meet us in person. We look forward to welcoming you! \nOur meetup’s venue this week is at MUSICBOOKS
URL:https://expatsinalbania.com/events-calendar/eia-biweekly-coffee-2-3-3-2-2/
CATEGORIES:Drinks & Mixer,Information Session
ATTACH;FMTTYPE=image/jpeg:https://expatsinalbania.com/wp-content/uploads/2025/06/MusicBooks_Event.jpg
END:VEVENT
BEGIN:VEVENT
DTSTART;TZID=Europe/Tirane:20250910T103000
DTEND;TZID=Europe/Tirane:20250910T120000
DTSTAMP:20260423T205600
CREATED:20250628T195331Z
LAST-MODIFIED:20250826T154145Z
UID:252991-1757500200-1757505600@expatsinalbania.com
SUMMARY:EIA Biweekly Coffee - NY-Tirana Bagels
DESCRIPTION:You’re invited to our Wednesday Coffee/Breakfast Gathering\, held every other week! If you’re new in town and looking to connect with our expat community or need assistance with your relocation process\, this is the perfect opportunity to meet us in person. We look forward to welcoming you! \nOur meeting’s venue this week is New York Bagels Tirana
URL:https://expatsinalbania.com/events-calendar/eia-biweekly-coffee-2-3-2-2-2/
CATEGORIES:Drinks & Mixer,Information Session
ATTACH;FMTTYPE=image/jpeg:https://expatsinalbania.com/wp-content/uploads/2025/06/NewYorkTiranaBagels-e1749395340295.jpg
END:VEVENT
BEGIN:VEVENT
DTSTART;TZID=Europe/Tirane:20250723T103000
DTEND;TZID=Europe/Tirane:20250723T120000
DTSTAMP:20260423T205600
CREATED:20250602T224931Z
LAST-MODIFIED:20250628T201346Z
UID:252905-1753266600-1753272000@expatsinalbania.com
SUMMARY:EIA Biweekly Coffee - MUSICBOOKS
DESCRIPTION:You’re invited to our Wednesday Coffee/Breakfast Gathering\, held every other week! If you’re new in town and looking to connect with our expat community or need assistance with your relocation process\, this is the perfect opportunity to meet us in person. We look forward to welcoming you! \nOur meetup’s venue this week is at MUSICBOOKS
URL:https://expatsinalbania.com/events-calendar/eia-biweekly-coffee-2-3-3-2/
CATEGORIES:Drinks & Mixer,Information Session
ATTACH;FMTTYPE=image/jpeg:https://expatsinalbania.com/wp-content/uploads/2025/06/MusicBooks_Event.jpg
END:VEVENT
BEGIN:VEVENT
DTSTART;TZID=Europe/Tirane:20250709T103000
DTEND;TZID=Europe/Tirane:20250709T120000
DTSTAMP:20260423T205600
CREATED:20250628T195331Z
LAST-MODIFIED:20250628T195322Z
UID:252893-1752057000-1752062400@expatsinalbania.com
SUMMARY:EIA Biweekly Coffee - NY-Tirana Bagels
DESCRIPTION:You’re invited to our Wednesday Coffee/Breakfast Gathering\, held every other week! If you’re new in town and looking to connect with our expat community or need assistance with your relocation process\, this is the perfect opportunity to meet us in person. We look forward to welcoming you! \nOur meeting’s venue this week is New York Bagels Tirana
URL:https://expatsinalbania.com/events-calendar/eia-biweekly-coffee-2-3-2-2/
CATEGORIES:Drinks & Mixer,Information Session
ATTACH;FMTTYPE=image/jpeg:https://expatsinalbania.com/wp-content/uploads/2025/06/NewYorkTiranaBagels-e1749395340295.jpg
END:VEVENT
BEGIN:VEVENT
DTSTART;TZID=Europe/Tirane:20250625T103000
DTEND;TZID=Europe/Tirane:20250625T120000
DTSTAMP:20260423T205600
CREATED:20250602T224931Z
LAST-MODIFIED:20250624T203805Z
UID:252827-1750847400-1750852800@expatsinalbania.com
SUMMARY:EIA Biweekly Coffee - MUSICBOOKS
DESCRIPTION:You’re invited to our Wednesday Coffee/Breakfast Gathering\, held every other week! If you’re new in town and looking to connect with our expat community or need assistance with your relocation process\, this is the perfect opportunity to meet us in person. We look forward to welcoming you! \nOur meetup’s venue this week is at MUSICBOOKS
URL:https://expatsinalbania.com/events-calendar/eia-biweekly-coffee-2-3-3/
LOCATION:Musicbooks\, Rruga Ilo Mitkë Qafzezi 2\, Tirana 1019\, Albania
CATEGORIES:Drinks & Mixer,Information Session
ATTACH;FMTTYPE=image/webp:https://expatsinalbania.com/wp-content/uploads/2025/01/DALL·E-2025-01-03-17.06.05-A-cozy-outdoor-cafe-setting-with-a-group-of-diverse-individuals-balanced-in-gender-and-distributed-across-age-groups-from-their-40s-to-70s-enjoying-.webp
END:VEVENT
BEGIN:VEVENT
DTSTART;TZID=Europe/Tirane:20250611T103000
DTEND;TZID=Europe/Tirane:20250611T120000
DTSTAMP:20260423T205600
CREATED:20250602T224631Z
LAST-MODIFIED:20250609T174930Z
UID:252821-1749637800-1749643200@expatsinalbania.com
SUMMARY:EIA Biweekly Coffee - NY-Tirana Bagels
DESCRIPTION:You’re invited to our Wednesday Coffee/Breakfast Gathering\, held every other week! If you’re new in town and looking to connect with our expat community or need assistance with your relocation process\, this is the perfect opportunity to meet us in person. We look forward to welcoming you! \nOur meeting’s venue this week is New York Bagels Tirana
URL:https://expatsinalbania.com/events-calendar/eia-biweekly-coffee-2-3-2/
CATEGORIES:Drinks & Mixer,Information Session
ATTACH;FMTTYPE=image/jpeg:https://expatsinalbania.com/wp-content/uploads/2025/06/NewYorkTiranaBagels-e1749395340295.jpg
END:VEVENT
BEGIN:VEVENT
DTSTART;TZID=Europe/Tirane:20250528T103000
DTEND;TZID=Europe/Tirane:20250528T120000
DTSTAMP:20260423T205600
CREATED:20250430T224931Z
LAST-MODIFIED:20250430T224947Z
UID:252724-1748428200-1748433600@expatsinalbania.com
SUMMARY:EIA Biweekly Coffee
DESCRIPTION:You’re invited to our Wednesday Coffee/Breakfast Gathering\, held every other week! If you’re new in town and looking to connect with our expat community or need assistance with your relocation process\, this is the perfect opportunity to meet us in person. We look forward to welcoming you! \nOur meeting this week is held at the Cafe of Villa Musicbooks – MAP HERE
URL:https://expatsinalbania.com/events-calendar/eia-biweekly-coffee-2-3/
CATEGORIES:Information Session
ATTACH;FMTTYPE=image/webp:https://expatsinalbania.com/wp-content/uploads/2025/01/DALL·E-2025-01-03-17.06.05-A-cozy-outdoor-cafe-setting-with-a-group-of-diverse-individuals-balanced-in-gender-and-distributed-across-age-groups-from-their-40s-to-70s-enjoying-.webp
END:VEVENT
BEGIN:VEVENT
DTSTART;TZID=Europe/Tirane:20250514T103000
DTEND;TZID=Europe/Tirane:20250514T120000
DTSTAMP:20260423T205600
CREATED:20250430T224709Z
LAST-MODIFIED:20250430T224648Z
UID:252295-1747218600-1747224000@expatsinalbania.com
SUMMARY:EIA Biweekly Coffee
DESCRIPTION:You’re invited to our Wednesday Coffee/Breakfast Gathering\, held every other week! If you’re new in town and looking to connect with our expat community or need assistance with your relocation process\, this is the perfect opportunity to meet us in person. We look forward to welcoming you! \nOur meeting this week is held at the Cafe of Villa Musicbooks located here – Click on MAP
URL:https://expatsinalbania.com/events-calendar/eia-biweekly-coffee-5/
CATEGORIES:Information Session
ATTACH;FMTTYPE=image/webp:https://expatsinalbania.com/wp-content/uploads/2025/01/DALL·E-2025-01-03-17.06.05-A-cozy-outdoor-cafe-setting-with-a-group-of-diverse-individuals-balanced-in-gender-and-distributed-across-age-groups-from-their-40s-to-70s-enjoying-.webp
END:VEVENT
BEGIN:VEVENT
DTSTART;TZID=Europe/Tirane:20250430T103000
DTEND;TZID=Europe/Tirane:20250430T120000
DTSTAMP:20260423T205600
CREATED:20250104T005809Z
LAST-MODIFIED:20250409T235035Z
UID:252378-1746009000-1746014400@expatsinalbania.com
SUMMARY:EIA Biweekly Coffee
DESCRIPTION:You’re invited to our Wednesday Coffee/Breakfast Gathering\, held every other week! If you’re new in town and looking to connect with our expat community or need assistance with your relocation process\, this is the perfect opportunity to meet us in person. We look forward to welcoming you! \nOur meeting this week is held at the Cafe of Villa Musicbooks located here – Click on MAP
URL:https://expatsinalbania.com/events-calendar/eia-biweekly-coffee-4-2/
CATEGORIES:Information Session
ATTACH;FMTTYPE=image/webp:https://expatsinalbania.com/wp-content/uploads/2025/01/DALL·E-2025-01-03-17.06.05-A-cozy-outdoor-cafe-setting-with-a-group-of-diverse-individuals-balanced-in-gender-and-distributed-across-age-groups-from-their-40s-to-70s-enjoying-.webp
END:VEVENT
END:VCALENDAR